BEGIN:VCALENDAR
VERSION:2.0
PRODID:icalendar-ruby
CALSCALE:GREGORIAN
METHOD:PUBLISH
BEGIN:VEVENT
DTSTAMP:20260423T221954Z
UID:5-405976@transformer4life.org
DTSTART:20260927T150000Z
DTEND:20260927T160000Z
CLASS:PUBLIC
CREATED:20260423T155941
DESCRIPTION:Sunday Worship
LAST-MODIFIED:20260423T155941
LOCATION:
SUMMARY:Sunday Worship
URL;VALUE=URI:https://transformer4life.org/events/sunday-worship/2026-09-27
END:VEVENT
END:VCALENDAR
