BEGIN:VCALENDAR
VERSION:2.0
PRODID:icalendar-ruby
CALSCALE:GREGORIAN
METHOD:PUBLISH
BEGIN:VEVENT
DTSTAMP:20260423T235426Z
UID:5-406238@transformer4life.org
DTSTART:20261004T150000Z
DTEND:20261004T160000Z
CLASS:PUBLIC
CREATED:20260423T185256
DESCRIPTION:Sunday Worship
LAST-MODIFIED:20260423T185256
LOCATION:
SUMMARY:Sunday Worship
URL;VALUE=URI:https://transformer4life.org/events/sunday-worship/2026-10-04
END:VEVENT
END:VCALENDAR
