BEGIN:VCALENDAR
VERSION:2.0
PRODID:icalendar-ruby
CALSCALE:GREGORIAN
METHOD:PUBLISH
BEGIN:VEVENT
DTSTAMP:20260424T053527Z
UID:5-406503@transformer4life.org
DTSTART:20261101T160000Z
DTEND:20261101T170000Z
CLASS:PUBLIC
CREATED:20260423T214717
DESCRIPTION:Sunday Worship
LAST-MODIFIED:20260423T214717
LOCATION:
SUMMARY:Sunday Worship
URL;VALUE=URI:https://transformer4life.org/events/sunday-worship/2026-11-01
END:VEVENT
END:VCALENDAR
